BEGIN:VCALENDAR
VERSION:2.0
PRODID:-//Sated09 - Innover et soutenir les personnes avec autisme - ECPv6.8.2.1//NONSGML v1.0//EN
CALSCALE:GREGORIAN
METHOD:PUBLISH
X-ORIGINAL-URL:https://sated09.fr
X-WR-CALDESC:Évènements pour Sated09 - Innover et soutenir les personnes avec autisme
REFRESH-INTERVAL;VALUE=DURATION:PT1H
X-Robots-Tag:noindex
X-PUBLISHED-TTL:PT1H
BEGIN:VTIMEZONE
TZID:Europe/Paris
BEGIN:DAYLIGHT
TZOFFSETFROM:+0100
TZOFFSETTO:+0200
TZNAME:CEST
DTSTART:20240331T010000
END:DAYLIGHT
BEGIN:STANDARD
TZOFFSETFROM:+0200
TZOFFSETTO:+0100
TZNAME:CET
DTSTART:20241027T010000
END:STANDARD
END:VTIMEZONE
BEGIN:VEVENT
DTSTART;TZID=Europe/Paris:20240329T180000
DTEND;TZID=Europe/Paris:20240329T193000
DTSTAMP:20260420T234422
CREATED:20240311T112038Z
LAST-MODIFIED:20240311T112038Z
UID:3444-1711735200-1711740600@sated09.fr
SUMMARY:Assemblée Générale de l'association SATED09
DESCRIPTION:L’ordre du jour de l’Assemblée Générale est le suivant:\n\nCompte-rendu moral\n\n\nCompte-rendu d’activité\n\n\nBilan financier\n\n\nPoint sur l’Habitat Inclusif\n\n\nQuestions diverses
URL:https://sated09.fr/evenement/assemblee-generale-de-lassociation-sated09/
LOCATION:Foyer Léo Lagrange de Foix\, 16 rue Noël Peyrevidal\, Foix\, 09000
CATEGORIES:Association,Autisme
ATTACH;FMTTYPE=image/jpeg:https://sated09.fr/wp-content/uploads/2023/01/sated-asso-scaled.jpg
END:VEVENT
END:VCALENDAR