BEGIN:VCALENDAR
VERSION:2.0
PRODID:-//Sated09 - Innover et soutenir les personnes avec autisme - ECPv6.8.2.1//NONSGML v1.0//EN
CALSCALE:GREGORIAN
METHOD:PUBLISH
X-ORIGINAL-URL:https://sated09.fr
X-WR-CALDESC:Évènements pour Sated09 - Innover et soutenir les personnes avec autisme
REFRESH-INTERVAL;VALUE=DURATION:PT1H
X-Robots-Tag:noindex
X-PUBLISHED-TTL:PT1H
BEGIN:VTIMEZONE
TZID:Europe/Paris
BEGIN:DAYLIGHT
TZOFFSETFROM:+0100
TZOFFSETTO:+0200
TZNAME:CEST
DTSTART:20230326T010000
END:DAYLIGHT
BEGIN:STANDARD
TZOFFSETFROM:+0200
TZOFFSETTO:+0100
TZNAME:CET
DTSTART:20231029T010000
END:STANDARD
END:VTIMEZONE
BEGIN:VEVENT
DTSTART;TZID=Europe/Paris:20230623T143000
DTEND;TZID=Europe/Paris:20230623T143000
DTSTAMP:20260421T120246
CREATED:20230612T074735Z
LAST-MODIFIED:20230612T075636Z
UID:3280-1687530600-1687530600@sated09.fr
SUMMARY:Présentation de l'habitat inclusif
DESCRIPTION:Sated09 vous invite à la présentation de l’habitat inclusif ANDEMA (voir notre page de présentation du projet d’habitat inclusif) et à la présentation de l’espace inclusif de préparation à l’ habitat. \nCette rencontre aura lieu le vendredi 23 juin 2023 à  14h30 à l’espace Léo Lagrange de Foix ( rue Peyrevidal ). \nNous serons ravis de vous y accueillir et prêts à répondre à vos questions. \nSi vous êtes intéressés\, merci de vous inscrire au : 06 64 63 89 97.
URL:https://sated09.fr/evenement/presentation-de-lhabitat-inclusif/
LOCATION:Foyer Léo Lagrange de Foix\, 16 rue Noël Peyrevidal\, Foix\, 09000
CATEGORIES:Association,Habitat inclusif
ATTACH;FMTTYPE=image/jpeg:https://sated09.fr/wp-content/uploads/2023/02/header-home-scaled.jpg
END:VEVENT
END:VCALENDAR