BEGIN:VCALENDAR
VERSION:2.0
PRODID:-//Sated09 - Innover et soutenir les personnes avec autisme - ECPv6.8.2.1//NONSGML v1.0//EN
CALSCALE:GREGORIAN
METHOD:PUBLISH
X-WR-CALNAME:Sated09 - Innover et soutenir les personnes avec autisme
X-ORIGINAL-URL:https://sated09.fr
X-WR-CALDESC:Évènements pour Sated09 - Innover et soutenir les personnes avec autisme
REFRESH-INTERVAL;VALUE=DURATION:PT1H
X-Robots-Tag:noindex
X-PUBLISHED-TTL:PT1H
BEGIN:VTIMEZONE
TZID:Europe/Paris
BEGIN:DAYLIGHT
TZOFFSETFROM:+0100
TZOFFSETTO:+0200
TZNAME:CEST
DTSTART:20230326T010000
END:DAYLIGHT
BEGIN:STANDARD
TZOFFSETFROM:+0200
TZOFFSETTO:+0100
TZNAME:CET
DTSTART:20231029T010000
END:STANDARD
END:VTIMEZONE
BEGIN:VEVENT
DTSTART;VALUE=DATE:20230602
DTEND;VALUE=DATE:20230604
DTSTAMP:20260421T121025
CREATED:20230525T145153Z
LAST-MODIFIED:20230525T145218Z
UID:3272-1685664000-1685836799@sated09.fr
SUMMARY:Sated09 sera au "Total Festum" en Couserans
DESCRIPTION:Le Total Festum\, c’est le rendez-vous des cultures occitanes et catalanes ! \nAu programme : musique\, danse trad’\, musique Trad’Actuelle\, expos photos\, littérature\, spectacle de feu… \nIl se déroulera les 2 et 3 juin au Parc des Expositions de Saint-Girons\, et l’entrée est GRATUITE ! \nNotre association tiendra un stand lors du festival afin d’informer sur les TSA\, de présenter nos projets\, de partager\, d’échanger… N’hésitez pas à venir nous voir ! \nVoir le programme complet du total Festum 2023 : Total Festum en Couserans. \n 
URL:https://sated09.fr/evenement/sated09-sera-au-total-festum-en-couserans/
LOCATION:Parc des Expositions de Saint-Girons\, Parc Exposition\, Saint-Girons\, 09200
CATEGORIES:Association
ATTACH;FMTTYPE=image/jpeg:https://sated09.fr/wp-content/uploads/2023/02/header-home-scaled.jpg
END:VEVENT
END:VCALENDAR