BEGIN:VCALENDAR
VERSION:2.0
PRODID:-//Sated09 - Innover et soutenir les personnes avec autisme - ECPv6.8.2.1//NONSGML v1.0//EN
CALSCALE:GREGORIAN
METHOD:PUBLISH
X-ORIGINAL-URL:https://sated09.fr
X-WR-CALDESC:Évènements pour Sated09 - Innover et soutenir les personnes avec autisme
REFRESH-INTERVAL;VALUE=DURATION:PT1H
X-Robots-Tag:noindex
X-PUBLISHED-TTL:PT1H
BEGIN:VTIMEZONE
TZID:Europe/Paris
BEGIN:DAYLIGHT
TZOFFSETFROM:+0100
TZOFFSETTO:+0200
TZNAME:CEST
DTSTART:20230326T010000
END:DAYLIGHT
BEGIN:STANDARD
TZOFFSETFROM:+0200
TZOFFSETTO:+0100
TZNAME:CET
DTSTART:20231029T010000
END:STANDARD
END:VTIMEZONE
BEGIN:VEVENT
DTSTART;TZID=Europe/Paris:20230324T180000
DTEND;TZID=Europe/Paris:20230324T180000
DTSTAMP:20260421T160713
CREATED:20230313T084329Z
LAST-MODIFIED:20230313T084329Z
UID:3251-1679680800-1679680800@sated09.fr
SUMMARY:Assemblée Générale
DESCRIPTION:Nous sommes heureux de vous convier à l’Assemblée Générale annuelle de notre association\, qui aura lieu le vendredi 24 mars à 18h au Foyer Léo Lagrange (16 rue Noël Peyrevidal) à Foix. Elle sera suivie d’un Conseil d’Administration. \n 
URL:https://sated09.fr/evenement/assemblee-generale/
LOCATION:Foyer Léo Lagrange de Foix\, 16 rue Noël Peyrevidal\, Foix\, 09000
CATEGORIES:Association
ATTACH;FMTTYPE=image/jpeg:https://sated09.fr/wp-content/uploads/2023/02/header-home-scaled.jpg
END:VEVENT
END:VCALENDAR