BEGIN:VCALENDAR
VERSION:2.0
PRODID:-//Sated09 - Innover et soutenir les personnes avec autisme - ECPv6.8.2.1//NONSGML v1.0//EN
CALSCALE:GREGORIAN
METHOD:PUBLISH
X-ORIGINAL-URL:https://sated09.fr
X-WR-CALDESC:Évènements pour Sated09 - Innover et soutenir les personnes avec autisme
REFRESH-INTERVAL;VALUE=DURATION:PT1H
X-Robots-Tag:noindex
X-PUBLISHED-TTL:PT1H
BEGIN:VTIMEZONE
TZID:Europe/Paris
BEGIN:DAYLIGHT
TZOFFSETFROM:+0100
TZOFFSETTO:+0200
TZNAME:CEST
DTSTART:20230326T010000
END:DAYLIGHT
BEGIN:STANDARD
TZOFFSETFROM:+0200
TZOFFSETTO:+0100
TZNAME:CET
DTSTART:20231029T010000
END:STANDARD
END:VTIMEZONE
BEGIN:VEVENT
DTSTART;TZID=Europe/Paris:20230127T173000
DTEND;TZID=Europe/Paris:20230127T173000
DTSTAMP:20260421T185641
CREATED:20230112T154245Z
LAST-MODIFIED:20230122T160250Z
UID:3136-1674840600-1674840600@sated09.fr
SUMMARY:Conseil d'administration
DESCRIPTION:Ordre du jour\nValidation du compte-rendu du dernier CA\nPoint sur le service d’aide à domicile\nPoint sur l’habitat inclusif\nPoint sur les formations\nPoint sur le projet territorial de santé mentale\nQuestions diverses
URL:https://sated09.fr/evenement/conseil-dadministration/
CATEGORIES:Association
ATTACH;FMTTYPE=image/jpeg:https://sated09.fr/wp-content/uploads/2023/02/header-home-scaled.jpg
END:VEVENT
END:VCALENDAR