BEGIN:VCALENDAR
VERSION:2.0
PRODID:-//Sated09 - Innover et soutenir les personnes avec autisme - ECPv6.8.2.1//NONSGML v1.0//EN
CALSCALE:GREGORIAN
METHOD:PUBLISH
X-ORIGINAL-URL:https://sated09.fr
X-WR-CALDESC:Évènements pour Sated09 - Innover et soutenir les personnes avec autisme
REFRESH-INTERVAL;VALUE=DURATION:PT1H
X-Robots-Tag:noindex
X-PUBLISHED-TTL:PT1H
BEGIN:VTIMEZONE
TZID:Europe/Paris
BEGIN:DAYLIGHT
TZOFFSETFROM:+0100
TZOFFSETTO:+0200
TZNAME:CEST
DTSTART:20240331T010000
END:DAYLIGHT
BEGIN:STANDARD
TZOFFSETFROM:+0200
TZOFFSETTO:+0100
TZNAME:CET
DTSTART:20241027T010000
END:STANDARD
END:VTIMEZONE
BEGIN:VEVENT
DTSTART;TZID=Europe/Paris:20240523T083000
DTEND;TZID=Europe/Paris:20240523T163000
DTSTAMP:20260420T192619
CREATED:20240428T173921Z
LAST-MODIFIED:20240428T174046Z
UID:3456-1716453000-1716481800@sated09.fr
SUMMARY:Journée d'étude du Centre Ressources Autisme Midi Pyrénées  "Stratégies Inclusives chez l'adulte avec un TSA"
DESCRIPTION:Le Centre Ressources Autisme Midi-Pyrénées (CRA MP) organise le jeudi 23 mai 2024  de 8h30 à 16h30 une journée d’études « Stratégies inclusives chez l’adulte avec un Trouble du Spectre de l’Autisme (TSA) ».  \nCette journée est gratuite et destinée à tout public. \nElle aura lieu à Toulouse (Au PREFMS\, quartier de la Cartoucherie). \nLa matinée sera consacré à des interventions autour de l’auto-détermination et de l’inclusion d’adultes avec un TSA\, avec et sans TDI.\nConcernant le programme de l’après-midi\, deux tables rondes autour de l’habitat inclusif et l’insertion professionnelle viendront enrichir cette journée. \nCONTACT : evenementiel@cra-mp.info.\nINSCRIPTION  OBLIGATOIRE : www.billetweb.fr/journee-detudestrategies-inclusives-chez-ladulte-avec-un-tsa
URL:https://sated09.fr/evenement/journee-detude-du-centre-ressources-autisme-midi-pyrenees-strategies-inclusives-chez-ladulte-avec-un-tsa/
LOCATION:PREFMS\, 74 Voie du Toec\, Toulouse\, 31300
CATEGORIES:Association,Autisme
ATTACH;FMTTYPE=application/pdf:https://sated09.fr/wp-content/uploads/2024/04/Les-ACTUalites-du-CRA-MP.pdf
END:VEVENT
BEGIN:VEVENT
DTSTART;TZID=Europe/Paris:20240524T140000
DTEND;TZID=Europe/Paris:20240524T160000
DTSTAMP:20260420T192619
CREATED:20240428T170416Z
LAST-MODIFIED:20240428T170416Z
UID:3448-1716559200-1716566400@sated09.fr
SUMMARY:Journée Nationale de l'Accès au Droit
DESCRIPTION:Le Conseil Départemental de l’Accès au Droit de l’Ariège vous invite à découvrir gratuitement les acteurs et le fonctionnement du monde judiciaire le vendredi 24 mai de 14h00 à 16h00 au Palais de Justice de Foix. \nCette journée sera l’occasion de rencontrer des professionnels du droit et d’échanger avec eux afin de répondre à tous vos questionnements sur l’accès au droit. \n  \n 
URL:https://sated09.fr/evenement/journee-nationale-de-lacces-au-droit/
LOCATION:Tribunal d’Instance de Foix\, 14 boulevard du Sud\, Foix\, 09008
CATEGORIES:Association,Autisme
ATTACH;FMTTYPE=application/pdf:https://sated09.fr/wp-content/uploads/2024/04/Journee-Nationale-de-lAcces-au-Droit-2024-1.pdf
END:VEVENT
END:VCALENDAR