BEGIN:VCALENDAR
VERSION:2.0
PRODID:-//Sated09 - Innover et soutenir les personnes avec autisme - ECPv6.8.2.1//NONSGML v1.0//EN
CALSCALE:GREGORIAN
METHOD:PUBLISH
X-WR-CALNAME:Sated09 - Innover et soutenir les personnes avec autisme
X-ORIGINAL-URL:https://sated09.fr
X-WR-CALDESC:Évènements pour Sated09 - Innover et soutenir les personnes avec autisme
REFRESH-INTERVAL;VALUE=DURATION:PT1H
X-Robots-Tag:noindex
X-PUBLISHED-TTL:PT1H
BEGIN:VTIMEZONE
TZID:Europe/Paris
BEGIN:DAYLIGHT
TZOFFSETFROM:+0100
TZOFFSETTO:+0200
TZNAME:CEST
DTSTART:20230326T010000
END:DAYLIGHT
BEGIN:STANDARD
TZOFFSETFROM:+0200
TZOFFSETTO:+0100
TZNAME:CET
DTSTART:20231029T010000
END:STANDARD
END:VTIMEZONE
BEGIN:VEVENT
DTSTART;VALUE=DATE:20230401
DTEND;VALUE=DATE:20230402
DTSTAMP:20260421T131854
CREATED:20230313T141517Z
LAST-MODIFIED:20230313T141735Z
UID:3263-1680307200-1680393599@sated09.fr
SUMMARY:Une "pré-journée de l'autisme" en Ariège !
DESCRIPTION:En avant-première de la journée mondiale de sensibilisation à l’autisme (qui a lieu dimanche 2 avril)\, nous vous proposons de nous retrouver le samedi 1er avril sur le parking du Super U de Mirepoix pour une journée d’échanges et d’animations autours des TSA. \nCette manifestation\, à l’initiative du GEM TSA « Les Bulles Bleues » (voir la présentation du GEM) et d’Autisme Ariège (voir les partenaires) sera notamment l’occasion de découvrir une équipe cynophile avec des chiens d’assistance. \nÀ noter : le Super U de Mirepoix baisse chaque jour l’intensité lumineuse et l’ambiance sonore entre 13h et 15h pour recevoir au mieux les personnes avec un TSA. \n 
URL:https://sated09.fr/evenement/une-pre-journee-de-lautisme-en-ariege/
LOCATION:Super U de Mirepoix\, 13 Av. Charles de Gaulle\, Mirepoix\, 09500
CATEGORIES:Association,Autisme
ATTACH;FMTTYPE=image/jpeg:https://sated09.fr/wp-content/uploads/2023/02/header-home-scaled.jpg
END:VEVENT
END:VCALENDAR